BEGIN:VCALENDAR
VERSION:2.0
PRODID:-//RCSD : The Regional Center for Social Science and Sustainable Development - ECPv6.0.2//NONSGML v1.0//EN
CALSCALE:GREGORIAN
METHOD:PUBLISH
X-ORIGINAL-URL:https://rcsd.soc.cmu.ac.th
X-WR-CALDESC:Events for RCSD : The Regional Center for Social Science and Sustainable Development
REFRESH-INTERVAL;VALUE=DURATION:PT1H
X-Robots-Tag:noindex
X-PUBLISHED-TTL:PT1H
BEGIN:VTIMEZONE
TZID:Asia/Bangkok
BEGIN:STANDARD
TZOFFSETFROM:+0700
TZOFFSETTO:+0700
TZNAME:+07
DTSTART:20190101T000000
END:STANDARD
END:VTIMEZONE
BEGIN:VEVENT
DTSTART;TZID=Asia/Bangkok:20190828T100000
DTEND;TZID=Asia/Bangkok:20190828T163000
DTSTAMP:20260421T041621
CREATED:20260420T091702Z
LAST-MODIFIED:20260420T091702Z
UID:12248-1566986400-1567009800@rcsd.soc.cmu.ac.th
SUMMARY:Book Launch & Seminar: State of Land in the Mekong Region
DESCRIPTION:“State of Land in the Mekong Region” book launch + seminar on 28 August 2019\, organized by RCSD The Regional Center for Social Science and Sustainable Development\, starting 10 am at the 4th floor meeting room\, operations building\, Faculty of Social Sciences\, Chiang Mai University. (there are morning and afternoon sessions). \nThe State of Land in the Mekong Region brings together data and information on current status and trajectories of change with regard to land resources\, their social distribution\, and the conditions of their governance that shape them. The book results from a long process of research and consultation involving more than 100 land experts in the region and across the world. It has been coordinated by the CDE – Centre for Development and Environment\, University of Bern and the Mekong Region Land Governance (MRLG)\, funded by Swiss Cooperation Mekong\, LuxDev – Luxembourg Development Cooperation Agency\, implemented by Land Equity International and Gret\, with support from GIZ Laos. \nThis book event aims to raise awareness and discuss key issues documented in the book such as dramatic transformation of agricultural and land tenure systems\, the acceleration of land-based investments and trade of land-intensive commodities\, and the growing inequality between smallholder farmers and other agricultural producers. The morning session will present both the regional overview from the book\, and details from the chapter concerning Thailand. The afternoon session involves a seminar on the topic of ‘land and inequality in Thailand’ with presentations and a panel of government\, academic\, NGO and CSO stakeholders. Participants are welcome to attend either or both of these sessions.
URL:https://rcsd.soc.cmu.ac.th/event/book-launch-seminar-state-of-land-in-the-mekong-region/
LOCATION:4th floor meeting room\, Operations Building\, Faculty of Social Sciences\, Chiang Mai\, Chiang Mai\, 50200\, Thailand
CATEGORIES:Resource Governance
ATTACH;FMTTYPE=image/jpeg:https://rcsd.soc.cmu.ac.th/wp-content/uploads/2026/04/state-of-land-2019.jpg
END:VEVENT
END:VCALENDAR