BEGIN:VCALENDAR
VERSION:2.0
PRODID:-//RCSD : The Regional Center for Social Science and Sustainable Development - ECPv6.0.2//NONSGML v1.0//EN
CALSCALE:GREGORIAN
METHOD:PUBLISH
X-WR-CALNAME:RCSD : The Regional Center for Social Science and Sustainable Development
X-ORIGINAL-URL:https://rcsd.soc.cmu.ac.th
X-WR-CALDESC:Events for RCSD : The Regional Center for Social Science and Sustainable Development
REFRESH-INTERVAL;VALUE=DURATION:PT1H
X-Robots-Tag:noindex
X-PUBLISHED-TTL:PT1H
BEGIN:VTIMEZONE
TZID:Asia/Bangkok
BEGIN:STANDARD
TZOFFSETFROM:+0700
TZOFFSETTO:+0700
TZNAME:+07
DTSTART:20170101T000000
END:STANDARD
TZID:Asia/Krasnoyarsk
BEGIN:STANDARD
TZOFFSETFROM:+0700
TZOFFSETTO:+0700
TZNAME:+07
DTSTART:20180101T000000
END:STANDARD
END:VTIMEZONE
BEGIN:VEVENT
DTSTART;TZID=Asia/Bangkok:20210519T133000
DTEND;TZID=Asia/Bangkok:20210519T143000
DTSTAMP:20260421T013009
CREATED:20260420T092300Z
LAST-MODIFIED:20260420T092300Z
UID:12251-1621431000-1621434600@rcsd.soc.cmu.ac.th
SUMMARY:Book Launch: Migration and Women’s Land Tenure Security in the Greater Mekong Sub-region
DESCRIPTION:The new book Migration and Women’s Land Tenure Security in the Greater Mekong Sub-region draws on country-level and ethnographic research\, based on a collaboration between FAO and Chiang Mai University. The book explores how migration affects women’s land tenure security\, and in turn the ways in which women’s control over land shapes patterns of migration\, through case studies in a Hmong community in northern Lao PDR\, a Karenni community in eastern Myanmar and a village in north-eastern Thailand. \nThe online book launch takes places on Wednesday 19th May from 13.30-14.30 (Thai time). Please join us by Zoom (https://cmu-th.zoom.us/j/95564482931) or live-stream on Facebook
URL:https://rcsd.soc.cmu.ac.th/event/book-launch-migration-and-womens-land-tenure-security-in-the-greater-mekong-sub-region/
LOCATION:Chiang Mai
CATEGORIES:Resource Governance
ATTACH;FMTTYPE=image/jpeg:https://rcsd.soc.cmu.ac.th/wp-content/uploads/2026/04/2021-mekong-women-book-launch.jpg
END:VEVENT
BEGIN:VEVENT
DTSTART;TZID=Asia/Krasnoyarsk:20210305T080000
DTEND;TZID=Asia/Krasnoyarsk:20210307T170000
DTSTAMP:20260421T013009
CREATED:20231106T072330Z
LAST-MODIFIED:20231106T072330Z
UID:10814-1614931200-1615136400@rcsd.soc.cmu.ac.th
SUMMARY:ICBMS3
DESCRIPTION:The 3rd International Conference on Burma/Myanmar Studies will be co-organized from 5-7 March 2021 at Chiang Mai University. It aims to be a platform for regional/international scholars and practitioners interested in Burma/Myanmar society as it undergoes economic\, political and social transformation to exchange ideas and research experiences on critical issues\, as well as strengthen and expand their networks. The ICBMS3 committee invites individual abstracts as well as panel proposals from interested academics\, researchers\, graduate students\, and professionals\, as well as practitioners engaged in the field of Burma/Myanmar studies. \nConference themes \n\nEconomic Development in Myanmar\nResource Management (Forest\, Land\, Water\, Fishes) & Governance\nAgrarian Transformation & Environmental/Climate Change\nUrban Space & Urban Livelihood\nMigration\, Migrants\, Refugees and the Displaced\nTransnationalism\, Transboundary Investment (BRI)\, SEZs\nPeace Process & Governance\nEthnic Inclusion/Exclusion\nHistory and Social Memory\nLanguage\, Mother-tongue Language Education\nChanging Media Landscape (Hate Speech)\nPopular Religion\, Religion and Harmony\nHealth Equality/Inequality\nEducation and Development\, Non-state Education\nGender & Development\nMyanmar and East Asian Powers\nArt and Society\nFood Security and Food Sovereignty\nSocial and Environmental Movements\n\nObjectives \n\nTo deepen our understanding of the social and political transformations occurring in Burma/Myanmar and their impact on the environment\, as well as on the economic and social lives of local/ethnic communities;\nTo examine Burma/Myanmar’s nexus and connectivity within the regional and global context\, as well as the internal interplay taking place among state actors\, society and culture;\nTo provide a platform for the exchange of academic ideas and dialogue among Burma/Myanmar scholars from around the world.\n\n 
URL:https://rcsd.soc.cmu.ac.th/event/icbms3/
LOCATION:Uniserv\, 239 Nimmanahaeminda Road\, Chiang Mai\, Chiang Mai\, 50200\, Thailand
CATEGORIES:Ethnic Politics,Mobility and Border,Regional Integration,Resource Governance
ATTACH;FMTTYPE=image/jpeg:https://rcsd.soc.cmu.ac.th/wp-content/uploads/2023/11/309498250_465167478973667_7168187097237121726_n.jpeg
END:VEVENT
BEGIN:VEVENT
DTSTART;TZID=Asia/Bangkok:20190828T100000
DTEND;TZID=Asia/Bangkok:20190828T163000
DTSTAMP:20260421T013009
CREATED:20260420T091702Z
LAST-MODIFIED:20260420T091702Z
UID:12248-1566986400-1567009800@rcsd.soc.cmu.ac.th
SUMMARY:Book Launch & Seminar: State of Land in the Mekong Region
DESCRIPTION:“State of Land in the Mekong Region” book launch + seminar on 28 August 2019\, organized by RCSD The Regional Center for Social Science and Sustainable Development\, starting 10 am at the 4th floor meeting room\, operations building\, Faculty of Social Sciences\, Chiang Mai University. (there are morning and afternoon sessions). \nThe State of Land in the Mekong Region brings together data and information on current status and trajectories of change with regard to land resources\, their social distribution\, and the conditions of their governance that shape them. The book results from a long process of research and consultation involving more than 100 land experts in the region and across the world. It has been coordinated by the CDE – Centre for Development and Environment\, University of Bern and the Mekong Region Land Governance (MRLG)\, funded by Swiss Cooperation Mekong\, LuxDev – Luxembourg Development Cooperation Agency\, implemented by Land Equity International and Gret\, with support from GIZ Laos. \nThis book event aims to raise awareness and discuss key issues documented in the book such as dramatic transformation of agricultural and land tenure systems\, the acceleration of land-based investments and trade of land-intensive commodities\, and the growing inequality between smallholder farmers and other agricultural producers. The morning session will present both the regional overview from the book\, and details from the chapter concerning Thailand. The afternoon session involves a seminar on the topic of ‘land and inequality in Thailand’ with presentations and a panel of government\, academic\, NGO and CSO stakeholders. Participants are welcome to attend either or both of these sessions.
URL:https://rcsd.soc.cmu.ac.th/event/book-launch-seminar-state-of-land-in-the-mekong-region/
LOCATION:4th floor meeting room\, Operations Building\, Faculty of Social Sciences\, Chiang Mai\, Chiang Mai\, 50200\, Thailand
CATEGORIES:Resource Governance
ATTACH;FMTTYPE=image/jpeg:https://rcsd.soc.cmu.ac.th/wp-content/uploads/2026/04/state-of-land-2019.jpg
END:VEVENT
BEGIN:VEVENT
DTSTART;TZID=Asia/Krasnoyarsk:20181001T090000
DTEND;TZID=Asia/Krasnoyarsk:20181001T120000
DTSTAMP:20260421T013009
CREATED:20180928T033242Z
LAST-MODIFIED:20231016T033532Z
UID:10606-1538384400-1538395200@rcsd.soc.cmu.ac.th
SUMMARY:Knots “Lessons Learned” Workshop
DESCRIPTION:RCSD invites all participants of the KNOTS Transdisciplinary Research and Teaching Summer School from CMU to join us for a reflection/training workshop “Lessons Learned?” Students\, translators\, instructors\, please join us at 9 am Monday 1 Oct at the Subaltern Meeting Room!
URL:https://rcsd.soc.cmu.ac.th/event/knots-lessons-learned-workshop/
LOCATION:Subaltern Meeting Room\, Operations Building\, Faculty of Social Sciences\, Chiang Mai\, Chiang Mai\, 50200\, Thailand
CATEGORIES:Regional Integration
ATTACH;FMTTYPE=image/jpeg:https://rcsd.soc.cmu.ac.th/wp-content/uploads/2023/02/42784070_2275123955863179_5207316184730435584_n.jpeg
END:VEVENT
BEGIN:VEVENT
DTSTART;TZID=Asia/Bangkok:20170208T130000
DTEND;TZID=Asia/Bangkok:20170208T163000
DTSTAMP:20260421T013009
CREATED:20260420T092552Z
LAST-MODIFIED:20260420T092552Z
UID:12254-1486558800-1486571400@rcsd.soc.cmu.ac.th
SUMMARY:Seminar: Diversity in Communal Land Titling: Thailand Myanmar Laos and Cambodia
DESCRIPTION:Please join the Mekong Land Research Forum and RCSD from 13.00-16.30 on Wednesday 8 February 2017 at the 4th Floor Meeting room\, Operational Building\, Faculty of Social Sciences\, for “Diversity in Communal Land Titling: Thailand Myanmar Laos and Cambodia” \nIn recent years\, considerable interest has been shown amongst communities\, non-government organizations and government agencies in what is commonly known as “Communal Land Titling”. The development of legal frameworks have taken on various forms in different countries due to a wide range of socio-cultural\, legal and political factors. This seminar offers an overview of Communal Land Titling in Thailand\, Myanmar\, Laos and Cambodia. Different approaches will be compared and contrasted to assist practitioners and academics thinking about different ways to support Communal Land Titling in mainland Southeast Asia. See less
URL:https://rcsd.soc.cmu.ac.th/event/seminar-diversity-in-communal-land-titling-thailand-myanmar-laos-and-cambodia/
LOCATION:4th floor meeting room\, Operations Building\, Faculty of Social Sciences\, Chiang Mai\, Chiang Mai\, 50200\, Thailand
CATEGORIES:Resource Governance
ATTACH;FMTTYPE=image/jpeg:https://rcsd.soc.cmu.ac.th/wp-content/uploads/2026/04/communal-land-titling.jpg
END:VEVENT
END:VCALENDAR